BEGIN:VCALENDAR
PRODID:-//Pixl8//Eventfolio//EN
VERSION:2.0
X-WR-TIMEZONE:Europe/London
CALSCALE:GREGORIAN
METHOD:PUBLISH
CLASS:PUBLIC
BEGIN:VTIMEZONE
TZID:Europe/London
LAST-MODIFIED:20260306T231828Z
TZURL:https://www.tzurl.org/zoneinfo-outlook/Europe/London
X-LIC-LOCATION:Europe/London
BEGIN:DAYLIGHT
TZNAME:BST
TZOFFSETFROM:+0000
TZOFFSETTO:+0100
DTSTART:19700329T010000
RRULE:FREQ=YEARLY;BYMONTH=3;BYDAY=-1SU
END:DAYLIGHT
BEGIN:STANDARD
TZNAME:GMT
TZOFFSETFROM:+0100
TZOFFSETTO:+0000
DTSTART:19701025T020000
RRULE:FREQ=YEARLY;BYMONTH=10;BYDAY=-1SU
END:STANDARD
END:VTIMEZONE
BEGIN:VEVENT
DTSTART;TZID=Europe/London:20231121T100000
DTEND;TZID=Europe/London:20231121T110000
DTSTAMP:20260422T143509Z
UID:{3647A883-0196-4D58-9CAB9C434E34F812}
LOCATION:
SUMMARY:139th Annual General Meeting of the Marine Biological Association
DESCRIPTION:The Annual General Meeting is how you, as a Member, get to have your say in the running of The Marine Biological Association. \n
 \n
 Event details: https://mymba.mba.ac.uk/member-homepage/events-calendar/139th-annual-general-meeting-of-the-marine-biological-association.html
PRIORITY:1
END:VEVENT
END:VCALENDAR